BEGIN:VCALENDAR
PRODID:-//Microsoft Corporation//Outlook 12.0 MIMEDIR//EN
VERSION:2.0
CALSCALE:GREGORIAN
BEGIN:VEVENT
UID: 5d2bd980-d109-4b58-b2d7-532e3442bc6a
SUMMARY:Perepäev Tääksis
DTSTAMP:20260503T000000
DTSTART:20260503T000000
DTEND:20260503T235900
LOCATION:Tääksi
DESCRIPTION: <p>Suure-Jaani Kooli Tääksi tegutsemiskohas toimub 3. mail perepäev.</p><p>Olete osalema oodatud!</p><p><strong>Link: </strong>https://sjk.edu.ee/et/sundmuste-kalender/perepaev-taaksis</p><p><strong>Hind: </strong></p>
STATUS:CONFIRMED
SEQUENCE:3
X-ALT-DESC;FMTTYPE=text/html:<p>Suure-Jaani Kooli Tääksi tegutsemiskohas toimub 3. mail perepäev.</p><p>Olete osalema oodatud!</p><p><strong>Link: </strong>https://sjk.edu.ee/et/sundmuste-kalender/perepaev-taaksis</p><p><strong>Hind: </strong></p>
X-MICROSOFT-CDO-BUSYSTATUS:OOF
X-MICROSOFT-CDO-IMPORTANCE:1
X-MICROSOFT-DISALLOW-COUNTER:FALSE
X-MS-OLK-ALLOWEXTERNCHECK:TRUE
X-MS-OLK-CONFTYPE:0
X-MICROSOFT-CDO-ALLDAYEVENT:
X-MICROSOFT-MSNCALENDAR-ALLDAYEVENT:
END:VEVENT
END:VCALENDAR