BEGIN:VCALENDAR
PRODID:-//Microsoft Corporation//Outlook 12.0 MIMEDIR//EN
VERSION:2.0
CALSCALE:GREGORIAN
BEGIN:VEVENT
UID: a412e893-6fa9-43b5-9b9c-969ac58757a3
SUMMARY:TI-hüppe külalised
DTSTAMP:20260408T000000
DTSTART:20260408T000000
DTEND:20260408T235900
LOCATION:Suure-Jaani
DESCRIPTION: <p>Aula terveks päevaks broneeritud</p><p><strong>Link: </strong>https://sjk.edu.ee/et/sundmuste-kalender/ti-huppe-kulalised</p><p><strong>Hind: </strong></p>
STATUS:CONFIRMED
SEQUENCE:3
X-ALT-DESC;FMTTYPE=text/html:<p>Aula terveks päevaks broneeritud</p><p><strong>Link: </strong>https://sjk.edu.ee/et/sundmuste-kalender/ti-huppe-kulalised</p><p><strong>Hind: </strong></p>
X-MICROSOFT-CDO-BUSYSTATUS:OOF
X-MICROSOFT-CDO-IMPORTANCE:1
X-MICROSOFT-DISALLOW-COUNTER:FALSE
X-MS-OLK-ALLOWEXTERNCHECK:TRUE
X-MS-OLK-CONFTYPE:0
X-MICROSOFT-CDO-ALLDAYEVENT:
X-MICROSOFT-MSNCALENDAR-ALLDAYEVENT:
END:VEVENT
END:VCALENDAR