BEGIN:VCALENDAR
PRODID:-//Microsoft Corporation//Outlook 12.0 MIMEDIR//EN
VERSION:2.0
CALSCALE:GREGORIAN
BEGIN:VEVENT
UID: e8b07cfd-990d-4f3f-8e7b-931de2cca719
SUMMARY:Luuletuste lugemise päev
DTSTAMP:20260326T000000
DTSTART:20260326T000000
DTEND:20260326T235900
LOCATION:Suure-Jaani
DESCRIPTION: <p>Ülekooliline võõrkeelsete luuletuste lugemise päev</p><p><strong>Link: </strong>https://sjk.edu.ee/et/sundmuste-kalender/luuletuste-lugemise-paev</p><p><strong>Hind: </strong></p>
STATUS:CONFIRMED
SEQUENCE:3
X-ALT-DESC;FMTTYPE=text/html:<p>Ülekooliline võõrkeelsete luuletuste lugemise päev</p><p><strong>Link: </strong>https://sjk.edu.ee/et/sundmuste-kalender/luuletuste-lugemise-paev</p><p><strong>Hind: </strong></p>
X-MICROSOFT-CDO-BUSYSTATUS:OOF
X-MICROSOFT-CDO-IMPORTANCE:1
X-MICROSOFT-DISALLOW-COUNTER:FALSE
X-MS-OLK-ALLOWEXTERNCHECK:TRUE
X-MS-OLK-CONFTYPE:0
X-MICROSOFT-CDO-ALLDAYEVENT:
X-MICROSOFT-MSNCALENDAR-ALLDAYEVENT:
END:VEVENT
END:VCALENDAR