BEGIN:VCALENDAR
PRODID:-//Microsoft Corporation//Outlook 12.0 MIMEDIR//EN
VERSION:2.0
CALSCALE:GREGORIAN
BEGIN:VEVENT
UID: 4aea2e5a-5a15-4fd9-8429-b3fd111fdd76
SUMMARY:Känguru
DTSTAMP:20260319
DTSTART:20260319
DTEND:20260320
DURATION:P1D
LOCATION:Suure-Jaani
DESCRIPTION: <p>Matemaatikavõistlus "Känguru"</p><p><strong>Link: </strong>https://sjk.edu.ee/et/sundmuste-kalender/kanguru-1</p><p><strong>Hind: </strong></p>
STATUS:CONFIRMED
SEQUENCE:3
X-ALT-DESC;FMTTYPE=text/html:<p>Matemaatikavõistlus "Känguru"</p><p><strong>Link: </strong>https://sjk.edu.ee/et/sundmuste-kalender/kanguru-1</p><p><strong>Hind: </strong></p>
X-MICROSOFT-CDO-BUSYSTATUS:OOF
X-MICROSOFT-CDO-IMPORTANCE:1
X-MICROSOFT-DISALLOW-COUNTER:FALSE
X-MS-OLK-ALLOWEXTERNCHECK:TRUE
X-MS-OLK-CONFTYPE:0
X-MICROSOFT-CDO-ALLDAYEVENT:1
X-MICROSOFT-MSNCALENDAR-ALLDAYEVENT:1
END:VEVENT
END:VCALENDAR