BEGIN:VCALENDAR
PRODID:-//Microsoft Corporation//Outlook 12.0 MIMEDIR//EN
VERSION:2.0
CALSCALE:GREGORIAN
BEGIN:VEVENT
UID: 426edd38-a8e6-4a84-8e78-e4e6d0c9c556
SUMMARY:Võistlused
DTSTAMP:20260405T000000
DTSTART:20260405T000000
DTEND:20260405T235900
LOCATION:Suure-Jaani
DESCRIPTION: <p>Võimlas lauatennise võistlused</p><p><strong>Link: </strong>https://sjk.edu.ee/et/sundmuste-kalender/voistlused-4</p><p><strong>Hind: </strong></p>
STATUS:CONFIRMED
SEQUENCE:3
X-ALT-DESC;FMTTYPE=text/html:<p>Võimlas lauatennise võistlused</p><p><strong>Link: </strong>https://sjk.edu.ee/et/sundmuste-kalender/voistlused-4</p><p><strong>Hind: </strong></p>
X-MICROSOFT-CDO-BUSYSTATUS:OOF
X-MICROSOFT-CDO-IMPORTANCE:1
X-MICROSOFT-DISALLOW-COUNTER:FALSE
X-MS-OLK-ALLOWEXTERNCHECK:TRUE
X-MS-OLK-CONFTYPE:0
X-MICROSOFT-CDO-ALLDAYEVENT:
X-MICROSOFT-MSNCALENDAR-ALLDAYEVENT:
END:VEVENT
END:VCALENDAR