BEGIN:VCALENDAR
PRODID:-//Microsoft Corporation//Outlook 12.0 MIMEDIR//EN
VERSION:2.0
CALSCALE:GREGORIAN
BEGIN:VEVENT
UID: 236a57b0-0339-4910-899b-1f8fe3436904
SUMMARY:Kevadkontsert
DTSTAMP:20250508
DTSTART:20250508
DTEND:20250509
DURATION:P1D
LOCATION:Suure-Jaani
DESCRIPTION: <p>Kevadine kontsert ja õpilastööde näitused</p><p><strong>Link: </strong>https://sjk.edu.ee/et/sundmuste-kalender/kevadkontsert</p><p><strong>Hind: </strong></p>
STATUS:CONFIRMED
SEQUENCE:3
X-ALT-DESC;FMTTYPE=text/html:<p>Kevadine kontsert ja õpilastööde näitused</p><p><strong>Link: </strong>https://sjk.edu.ee/et/sundmuste-kalender/kevadkontsert</p><p><strong>Hind: </strong></p>
X-MICROSOFT-CDO-BUSYSTATUS:OOF
X-MICROSOFT-CDO-IMPORTANCE:1
X-MICROSOFT-DISALLOW-COUNTER:FALSE
X-MS-OLK-ALLOWEXTERNCHECK:TRUE
X-MS-OLK-CONFTYPE:0
X-MICROSOFT-CDO-ALLDAYEVENT:1
X-MICROSOFT-MSNCALENDAR-ALLDAYEVENT:1
END:VEVENT
END:VCALENDAR