BEGIN:VCALENDAR
PRODID:-//Microsoft Corporation//Outlook 12.0 MIMEDIR//EN
VERSION:2.0
CALSCALE:GREGORIAN
BEGIN:VEVENT
UID: 08da4d08-b81b-4f13-888b-4bcd3b77d97a
SUMMARY:Volikogu koosolek
DTSTAMP:20250320T000000
DTSTART:20250320T000000
DTEND:20250320T235900
LOCATION:Suure-Jaani
DESCRIPTION: <p><span>Põhja-Sakala Vallavolikogu korraline istung toimub neljapäeval, 20. märtsil 2025 kell 17 Suure-Jaani koolimaja aulas.</span></p><p><strong>Link: </strong>https://sjk.edu.ee/et/sundmuste-kalender/volikogu-koosolek</p><p><strong>Hind: </strong></p>
STATUS:CONFIRMED
SEQUENCE:3
X-ALT-DESC;FMTTYPE=text/html:<p><span>Põhja-Sakala Vallavolikogu korraline istung toimub neljapäeval, 20. märtsil 2025 kell 17 Suure-Jaani koolimaja aulas.</span></p><p><strong>Link: </strong>https://sjk.edu.ee/et/sundmuste-kalender/volikogu-koosolek</p><p><strong>Hind: </strong></p>
X-MICROSOFT-CDO-BUSYSTATUS:OOF
X-MICROSOFT-CDO-IMPORTANCE:1
X-MICROSOFT-DISALLOW-COUNTER:FALSE
X-MS-OLK-ALLOWEXTERNCHECK:TRUE
X-MS-OLK-CONFTYPE:0
X-MICROSOFT-CDO-ALLDAYEVENT:
X-MICROSOFT-MSNCALENDAR-ALLDAYEVENT:
END:VEVENT
END:VCALENDAR